BEGIN:VCALENDAR
VERSION:2.0
PRODID:-//Orange County Intergroup Association - ECPv6.15.20//NONSGML v1.0//EN
CALSCALE:GREGORIAN
METHOD:PUBLISH
X-WR-CALNAME:Orange County Intergroup Association
X-ORIGINAL-URL:https://www.oc-aa.org
X-WR-CALDESC:Events for Orange County Intergroup Association
REFRESH-INTERVAL;VALUE=DURATION:PT1H
X-Robots-Tag:noindex
X-PUBLISHED-TTL:PT1H
BEGIN:VTIMEZONE
TZID:America/Los_Angeles
BEGIN:DAYLIGHT
TZOFFSETFROM:-0800
TZOFFSETTO:-0700
TZNAME:PDT
DTSTART:20250309T100000
END:DAYLIGHT
BEGIN:STANDARD
TZOFFSETFROM:-0700
TZOFFSETTO:-0800
TZNAME:PST
DTSTART:20251102T090000
END:STANDARD
BEGIN:DAYLIGHT
TZOFFSETFROM:-0800
TZOFFSETTO:-0700
TZNAME:PDT
DTSTART:20260308T100000
END:DAYLIGHT
BEGIN:STANDARD
TZOFFSETFROM:-0700
TZOFFSETTO:-0800
TZNAME:PST
DTSTART:20261101T090000
END:STANDARD
BEGIN:DAYLIGHT
TZOFFSETFROM:-0800
TZOFFSETTO:-0700
TZNAME:PDT
DTSTART:20270314T100000
END:DAYLIGHT
BEGIN:STANDARD
TZOFFSETFROM:-0700
TZOFFSETTO:-0800
TZNAME:PST
DTSTART:20271107T090000
END:STANDARD
BEGIN:DAYLIGHT
TZOFFSETFROM:-0800
TZOFFSETTO:-0700
TZNAME:PDT
DTSTART:20280312T100000
END:DAYLIGHT
BEGIN:STANDARD
TZOFFSETFROM:-0700
TZOFFSETTO:-0800
TZNAME:PST
DTSTART:20281105T090000
END:STANDARD
END:VTIMEZONE
BEGIN:VEVENT
DTSTART;VALUE=DATE:20260208
DTEND;VALUE=DATE:20261019
DTSTAMP:20260421T082420
CREATED:20251120T181607Z
LAST-MODIFIED:20251120T181607Z
UID:69545-1770508800-1792367999@www.oc-aa.org
SUMMARY:74th Southern California AA Convention
DESCRIPTION:Come join us and be of Service! Planning meetings for the Convention. Meetings start at 10:30am.
URL:https://www.oc-aa.org/event/74th-southern-california-aa-convention/
CATEGORIES:Conventions
ATTACH;FMTTYPE=image/jpeg:https://www.oc-aa.org/wp-content/uploads/2025/11/SCAAC-Save-the-Date-Planning-Meetings.jpg
END:VEVENT
BEGIN:VEVENT
DTSTART;TZID=America/Los_Angeles:20260227T183000
DTEND;TZID=America/Los_Angeles:20270227T193000
DTSTAMP:20260421T082420
CREATED:20251222T214859Z
LAST-MODIFIED:20260223T164841Z
UID:69627-1772217000-1803756600@www.oc-aa.org
SUMMARY:Women of Recovery Meeting
DESCRIPTION:Women of 5673 Recovery. Friday’s at 6:30pm. See Flyer for address…
URL:https://www.oc-aa.org/event/women-of-recovery-meeting/
CATEGORIES:New Meeting
ATTACH;FMTTYPE=image/jpeg:https://www.oc-aa.org/wp-content/uploads/2025/12/cheesy-flyer.jpg
END:VEVENT
BEGIN:VEVENT
DTSTART;TZID=America/Los_Angeles:20260311T190000
DTEND;TZID=America/Los_Angeles:20270401T200000
DTSTAMP:20260421T082420
CREATED:20250212T230051Z
LAST-MODIFIED:20260223T164711Z
UID:68173-1773255600-1806609600@www.oc-aa.org
SUMMARY:Intergroup Meeting (Live Only)
DESCRIPTION:
URL:https://www.oc-aa.org/event/intergroup-meeting-live-only-33/
LOCATION:Norma Hertzog Community Center\, 1845 Park Ave\, Costa Mesa\, CA\, 92627\, United States
CATEGORIES:Intergroup
ATTACH;FMTTYPE=application/pdf:https://www.oc-aa.org/wp-content/uploads/2024/01/Intergroup-Meeting-Flyer-2024-3.pdf
ORGANIZER;CN="OC-AA":MAILTO:manager@oc-aa.org
END:VEVENT
END:VCALENDAR