BEGIN:VCALENDAR
VERSION:2.0
PRODID:-//Orange County Intergroup Association - ECPv6.15.20//NONSGML v1.0//EN
CALSCALE:GREGORIAN
METHOD:PUBLISH
X-WR-CALNAME:Orange County Intergroup Association
X-ORIGINAL-URL:https://www.oc-aa.org
X-WR-CALDESC:Events for Orange County Intergroup Association
REFRESH-INTERVAL;VALUE=DURATION:PT1H
X-Robots-Tag:noindex
X-PUBLISHED-TTL:PT1H
BEGIN:VTIMEZONE
TZID:America/Los_Angeles
BEGIN:DAYLIGHT
TZOFFSETFROM:-0800
TZOFFSETTO:-0700
TZNAME:PDT
DTSTART:20240310T100000
END:DAYLIGHT
BEGIN:STANDARD
TZOFFSETFROM:-0700
TZOFFSETTO:-0800
TZNAME:PST
DTSTART:20241103T090000
END:STANDARD
BEGIN:DAYLIGHT
TZOFFSETFROM:-0800
TZOFFSETTO:-0700
TZNAME:PDT
DTSTART:20250309T100000
END:DAYLIGHT
BEGIN:STANDARD
TZOFFSETFROM:-0700
TZOFFSETTO:-0800
TZNAME:PST
DTSTART:20251102T090000
END:STANDARD
BEGIN:DAYLIGHT
TZOFFSETFROM:-0800
TZOFFSETTO:-0700
TZNAME:PDT
DTSTART:20260308T100000
END:DAYLIGHT
BEGIN:STANDARD
TZOFFSETFROM:-0700
TZOFFSETTO:-0800
TZNAME:PST
DTSTART:20261101T090000
END:STANDARD
END:VTIMEZONE
BEGIN:VEVENT
DTSTART;TZID=America/Los_Angeles:20251127T060000
DTEND;TZID=America/Los_Angeles:20251127T160000
DTSTAMP:20260421T234611
CREATED:20251113T170249Z
LAST-MODIFIED:20251113T170249Z
UID:69497-1764223200-1764259200@www.oc-aa.org
SUMMARY:Saddleback Valley Thanksgiving
DESCRIPTION:Join our fellowship group for a free potluck Thanksgiving and Marathon meetings! See flyer \nfor more information…
URL:https://www.oc-aa.org/event/saddleback-valley-thanksgiving/
CATEGORIES:Banquet
ATTACH;FMTTYPE=application/pdf:https://www.oc-aa.org/wp-content/uploads/2025/11/SVF-Thanksgiving-Flyer-2025.pdf
END:VEVENT
BEGIN:VEVENT
DTSTART;TZID=America/Los_Angeles:20251102T170000
DTEND;TZID=America/Los_Angeles:20251102T203000
DTSTAMP:20260421T234611
CREATED:20251024T160045Z
LAST-MODIFIED:20251024T160045Z
UID:69381-1762102800-1762115400@www.oc-aa.org
SUMMARY:41st Annual Gratitude Dinner
DESCRIPTION:Grateful in the desert. Fellowship\, Speaker\, Raffles\, Live music! See flyer for more info…
URL:https://www.oc-aa.org/event/41st-annual-gratitude-dinner/
CATEGORIES:Banquet
ATTACH;FMTTYPE=image/jpeg:https://www.oc-aa.org/wp-content/uploads/2025/10/7eb4c9e8-8345-21ec-20c1-042f2a88328d-scaled.jpg
END:VEVENT
BEGIN:VEVENT
DTSTART;TZID=America/Los_Angeles:20250412T103000
DTEND;TZID=America/Los_Angeles:20250412T150000
DTSTAMP:20260421T234611
CREATED:20250220T015924Z
LAST-MODIFIED:20250220T015924Z
UID:68262-1744453800-1744470000@www.oc-aa.org
SUMMARY:19th Annual HIGH DESERT AA WOMEN'S BANQUET "Thy Will Be Done" 2025 (Victorville\, Ca)
DESCRIPTION:See Flyer for details. \nLIMITED SEATING
URL:https://www.oc-aa.org/event/19th-annual-high-desert-aa-womens-banquet-thy-will-be-done-2025-victorville-ca/
LOCATION:Holiday Inn Victorville\, 15494 Palmdale Rd\, Victorville\, CA\, 92392\, United States
CATEGORIES:Banquet
ATTACH;FMTTYPE=application/pdf:https://www.oc-aa.org/wp-content/uploads/2025/02/doc00250620250219171057.pdf
END:VEVENT
BEGIN:VEVENT
DTSTART;TZID=America/Los_Angeles:20250309T160000
DTEND;TZID=America/Los_Angeles:20250309T210000
DTSTAMP:20260421T234611
CREATED:20250104T010249Z
LAST-MODIFIED:20250104T010249Z
UID:67870-1741536000-1741554000@www.oc-aa.org
SUMMARY:39th Annual Desert Women's Banquet (continued)
DESCRIPTION:“The Effect Was Electric” \nSee flyers for details.
URL:https://www.oc-aa.org/event/39th-annual-desert-womens-banquet-continued/
LOCATION:Renaissance Esmeralda Resort + Spa (Emerald Ballroom)\, 44-400 Indian Wells Lane\, Indian Wells\, CA\, 92210\, United States
CATEGORIES:Banquet,Special Meeting or Event
ATTACH;FMTTYPE=application/pdf:https://www.oc-aa.org/wp-content/uploads/2025/01/Desert-Womens-Banquet-2025-Palm-Desert-continued.pdf
END:VEVENT
BEGIN:VEVENT
DTSTART;TZID=America/Los_Angeles:20250309T160000
DTEND;TZID=America/Los_Angeles:20250309T210000
DTSTAMP:20260421T234611
CREATED:20250104T010120Z
LAST-MODIFIED:20250104T010120Z
UID:67865-1741536000-1741554000@www.oc-aa.org
SUMMARY:39th Annual Desert Women's Banquet
DESCRIPTION:“The Effect Was Electric” \nSee flyers for details.
URL:https://www.oc-aa.org/event/39th-annual-desert-womens-banquet/
LOCATION:Renaissance Esmeralda Resort + Spa (Emerald Ballroom)\, 44-400 Indian Wells Lane\, Indian Wells\, CA\, 92210\, United States
CATEGORIES:Banquet,Special Meeting or Event
ATTACH;FMTTYPE=application/pdf:https://www.oc-aa.org/wp-content/uploads/2025/01/Desert-Womens-Banquet-2025-Palm-Desert.pdf
END:VEVENT
END:VCALENDAR