BEGIN:VCALENDAR
VERSION:2.0
PRODID:-//Orange County Intergroup Association - ECPv6.15.20//NONSGML v1.0//EN
CALSCALE:GREGORIAN
METHOD:PUBLISH
X-ORIGINAL-URL:https://www.oc-aa.org
X-WR-CALDESC:Events for Orange County Intergroup Association
REFRESH-INTERVAL;VALUE=DURATION:PT1H
X-Robots-Tag:noindex
X-PUBLISHED-TTL:PT1H
BEGIN:VTIMEZONE
TZID:America/Los_Angeles
BEGIN:DAYLIGHT
TZOFFSETFROM:-0800
TZOFFSETTO:-0700
TZNAME:PDT
DTSTART:20250309T100000
END:DAYLIGHT
BEGIN:STANDARD
TZOFFSETFROM:-0700
TZOFFSETTO:-0800
TZNAME:PST
DTSTART:20251102T090000
END:STANDARD
BEGIN:DAYLIGHT
TZOFFSETFROM:-0800
TZOFFSETTO:-0700
TZNAME:PDT
DTSTART:20260308T100000
END:DAYLIGHT
BEGIN:STANDARD
TZOFFSETFROM:-0700
TZOFFSETTO:-0800
TZNAME:PST
DTSTART:20261101T090000
END:STANDARD
BEGIN:DAYLIGHT
TZOFFSETFROM:-0800
TZOFFSETTO:-0700
TZNAME:PDT
DTSTART:20270314T100000
END:DAYLIGHT
BEGIN:STANDARD
TZOFFSETFROM:-0700
TZOFFSETTO:-0800
TZNAME:PST
DTSTART:20271107T090000
END:STANDARD
END:VTIMEZONE
BEGIN:VEVENT
DTSTART;VALUE=DATE:20260208
DTEND;VALUE=DATE:20261019
DTSTAMP:20260422T152909
CREATED:20251120T181607Z
LAST-MODIFIED:20251120T181607Z
UID:69545-1770508800-1792367999@www.oc-aa.org
SUMMARY:74th Southern California AA Convention
DESCRIPTION:Come join us and be of Service! Planning meetings for the Convention. Meetings start at 10:30am.
URL:https://www.oc-aa.org/event/74th-southern-california-aa-convention/
CATEGORIES:Conventions
ATTACH;FMTTYPE=image/jpeg:https://www.oc-aa.org/wp-content/uploads/2025/11/SCAAC-Save-the-Date-Planning-Meetings.jpg
END:VEVENT
END:VCALENDAR