BEGIN:VCALENDAR
VERSION:2.0
PRODID:-//Orange County Intergroup Association - ECPv6.15.20//NONSGML v1.0//EN
CALSCALE:GREGORIAN
METHOD:PUBLISH
X-ORIGINAL-URL:https://www.oc-aa.org
X-WR-CALDESC:Events for Orange County Intergroup Association
REFRESH-INTERVAL;VALUE=DURATION:PT1H
X-Robots-Tag:noindex
X-PUBLISHED-TTL:PT1H
BEGIN:VTIMEZONE
TZID:America/Los_Angeles
BEGIN:DAYLIGHT
TZOFFSETFROM:-0800
TZOFFSETTO:-0700
TZNAME:PDT
DTSTART:20230312T100000
END:DAYLIGHT
BEGIN:STANDARD
TZOFFSETFROM:-0700
TZOFFSETTO:-0800
TZNAME:PST
DTSTART:20231105T090000
END:STANDARD
BEGIN:DAYLIGHT
TZOFFSETFROM:-0800
TZOFFSETTO:-0700
TZNAME:PDT
DTSTART:20240310T100000
END:DAYLIGHT
BEGIN:STANDARD
TZOFFSETFROM:-0700
TZOFFSETTO:-0800
TZNAME:PST
DTSTART:20241103T090000
END:STANDARD
BEGIN:DAYLIGHT
TZOFFSETFROM:-0800
TZOFFSETTO:-0700
TZNAME:PDT
DTSTART:20250309T100000
END:DAYLIGHT
BEGIN:STANDARD
TZOFFSETFROM:-0700
TZOFFSETTO:-0800
TZNAME:PST
DTSTART:20251102T090000
END:STANDARD
BEGIN:DAYLIGHT
TZOFFSETFROM:-0800
TZOFFSETTO:-0700
TZNAME:PDT
DTSTART:20260308T100000
END:DAYLIGHT
BEGIN:STANDARD
TZOFFSETFROM:-0700
TZOFFSETTO:-0800
TZNAME:PST
DTSTART:20261101T090000
END:STANDARD
END:VTIMEZONE
BEGIN:VEVENT
DTSTART;TZID=America/Los_Angeles:20250618T190000
DTEND;TZID=America/Los_Angeles:20250912T200000
DTSTAMP:20260421T142651
CREATED:20250618T224209Z
LAST-MODIFIED:20250618T224209Z
UID:69023-1750273200-1757707200@www.oc-aa.org
SUMMARY:Area 9 District 5 Temporary New Meeting via Zoom starting Now
DESCRIPTION:On the 2nd Thursday of the month\, all District 5 Meetings will be held via Zoom until a new location can be found. \nMeetings will no longer be held at 19211 Dodge Ave. (Church of the Foothills) \nhere is the meeting information as follows: \nMeeting ID-8970371755 \nPassword-06101935
URL:https://www.oc-aa.org/event/area-9-district-5-temporary-new-meeting-via-zoom-starting-now/
CATEGORIES:New Meeting
ATTACH;FMTTYPE=image/jpeg:https://www.oc-aa.org/wp-content/uploads/2025/06/Area-9-Dis-5-New-mtg-information-flyer-scaled.jpg
END:VEVENT
BEGIN:VEVENT
DTSTART;TZID=America/Los_Angeles:20250207T080000
DTEND;TZID=America/Los_Angeles:20250307T170000
DTSTAMP:20260421T142651
CREATED:20250207T231642Z
LAST-MODIFIED:20250207T231642Z
UID:68130-1738915200-1741366800@www.oc-aa.org
SUMMARY:New Meeting Grupo Pioneras (Women's Spanish Group)
DESCRIPTION:See flyer for details.
URL:https://www.oc-aa.org/event/new-meeting-grupo-pioneras-womens-spanish-group/
LOCATION:2019 S Main St\, 2019 S. Main St.\, Santa Ana\, CA\, 92707\, United States
CATEGORIES:New Meeting
ATTACH;FMTTYPE=application/pdf:https://www.oc-aa.org/wp-content/uploads/2025/02/doc00230220250207151225.pdf
END:VEVENT
BEGIN:VEVENT
DTSTART;VALUE=DATE:20241127
DTEND;VALUE=DATE:20241228
DTSTAMP:20260421T142651
CREATED:20241128T015750Z
LAST-MODIFIED:20241128T015944Z
UID:67636-1732665600-1735343999@www.oc-aa.org
SUMMARY:New Morning Meeting via Zoom
DESCRIPTION:See Flyer and meeting details within this post.
URL:https://www.oc-aa.org/event/new-morning-meeting-via-zoom/
LOCATION:Orange County Based Zoom Meeting
CATEGORIES:New Meeting
ATTACH;FMTTYPE=application/pdf:https://www.oc-aa.org/wp-content/uploads/2024/11/doc00085620241127174000.pdf
END:VEVENT
BEGIN:VEVENT
DTSTART;TZID=America/Los_Angeles:20240723T120000
DTEND;TZID=America/Los_Angeles:20240831T133000
DTSTAMP:20260421T142651
CREATED:20240723T223629Z
LAST-MODIFIED:20240723T223629Z
UID:66714-1721736000-1725111000@www.oc-aa.org
SUMMARY:Idyllwild Alcoholics Anonymous Speaker Meeting
DESCRIPTION:Last Sunday of the month. \n12 pm \nSee flyer for more details.
URL:https://www.oc-aa.org/event/idyllwild-alcoholics-anonymous-speaker-meeting/
LOCATION:St Hugh’s Episcopal Church\, 25525 Tahquitz Dr\, Idyllwild\, CA\, 92549\, United States
CATEGORIES:New Meeting
ATTACH;FMTTYPE=application/pdf:https://www.oc-aa.org/wp-content/uploads/2024/07/Idyllwild-AA-Speaker-Meeting-Flyer.pdf
END:VEVENT
BEGIN:VEVENT
DTSTART;TZID=America/Los_Angeles:20240607T203000
DTEND;TZID=America/Los_Angeles:20240607T213000
DTSTAMP:20260421T142651
CREATED:20240607T232821Z
LAST-MODIFIED:20240607T232821Z
UID:66310-1717792200-1717795800@www.oc-aa.org
SUMMARY:NORTH ORANGE COUNTY YOUNG PEOPLE'S IN ALCOHOLICS ANONYMOUS MEETING
DESCRIPTION:EVERY FRIDAY STARTING TODAY 06/07/2024 @ 8:30PM\,
URL:https://www.oc-aa.org/event/north-orange-county-young-peoples-in-alcoholics-anonymous-meeting/
LOCATION:9812 Hamilton Ave
CATEGORIES:New Meeting
ATTACH;FMTTYPE=application/pdf:https://www.oc-aa.org/wp-content/uploads/2024/06/NOCYPAA-WEEKLY-MEETING.pdf
END:VEVENT
BEGIN:VEVENT
DTSTART;TZID=America/Los_Angeles:20240416T180000
DTEND;TZID=America/Los_Angeles:20240416T193000
DTSTAMP:20260421T142651
CREATED:20240409T230912Z
LAST-MODIFIED:20240410T010912Z
UID:65921-1713290400-1713295800@www.oc-aa.org
SUMMARY:Into Solutions Tuesdays @6:00pm
DESCRIPTION:Check out this revived Newcomer meeting with Depth and Weight @HOW Hall 19092 Beach Blvd Unit G-H. 6:00pm-7:30pm.
URL:https://www.oc-aa.org/event/into-solutions-tuesdays-600pm/
LOCATION:H.O.W Hall\, 19092 Beach Blvd\, Huntington Beach\, CA\, 92646\, United States
CATEGORIES:New Meeting
ATTACH;FMTTYPE=application/pdf:https://www.oc-aa.org/wp-content/uploads/2024/04/Into-Solution-HB-Newcomer-Flyer.pdf
ORGANIZER;CN="OC-AA":MAILTO:manager@oc-aa.org
END:VEVENT
BEGIN:VEVENT
DTSTART;TZID=America/Los_Angeles:20240407T130000
DTEND;TZID=America/Los_Angeles:20240407T140000
DTSTAMP:20260421T142651
CREATED:20240329T162649Z
LAST-MODIFIED:20240329T162649Z
UID:65863-1712494800-1712498400@www.oc-aa.org
SUMMARY:One Sunday At A Time (New Meeting)
DESCRIPTION:New Big Book Study “BYOB” Bring Your Own Book. New meeting every Sunday @1pm at Thursdays Sunset Beach.
URL:https://www.oc-aa.org/event/one-sunday-at-a-time-new-meeting-4/
LOCATION:Thursdays\, 16865 Pacific Coast Hwy\, Sunset Beach\, CA\, 92649\, United States
CATEGORIES:New Meeting
ATTACH;FMTTYPE=application/pdf:https://www.oc-aa.org/wp-content/uploads/2024/03/One-Sunday-at-a-Time-BB-Study-Thurs-flyer.pdf
END:VEVENT
BEGIN:VEVENT
DTSTART;TZID=America/Los_Angeles:20240331T130000
DTEND;TZID=America/Los_Angeles:20240331T140000
DTSTAMP:20260421T142651
CREATED:20240319T222809Z
LAST-MODIFIED:20240319T222809Z
UID:65814-1711890000-1711893600@www.oc-aa.org
SUMMARY:One Sunday At A Time (New Meeting)
DESCRIPTION:New Big Book Study “BYOB” Bring Your Own Book. New meeting every Sunday @1pm at Thursdays Sunset Beach.
URL:https://www.oc-aa.org/event/one-sunday-at-a-time-new-meeting-3/
LOCATION:Thursdays\, 16865 Pacific Coast Hwy\, Sunset Beach\, CA\, 92649\, United States
CATEGORIES:New Meeting
ATTACH;FMTTYPE=application/pdf:https://www.oc-aa.org/wp-content/uploads/2024/03/One-Sunday-at-a-Time-BB-Study-Thurs-flyer.pdf
END:VEVENT
BEGIN:VEVENT
DTSTART;TZID=America/Los_Angeles:20240324T130000
DTEND;TZID=America/Los_Angeles:20240324T140000
DTSTAMP:20260421T142651
CREATED:20240319T222714Z
LAST-MODIFIED:20240319T222714Z
UID:65812-1711285200-1711288800@www.oc-aa.org
SUMMARY:One Sunday At A Time (New Meeting)
DESCRIPTION:New Big Book Study “BYOB” Bring Your Own Book. New meeting every Sunday @1pm at Thursdays Sunset Beach.
URL:https://www.oc-aa.org/event/one-sunday-at-a-time-new-meeting-2/
LOCATION:Thursdays\, 16865 Pacific Coast Hwy\, Sunset Beach\, CA\, 92649\, United States
CATEGORIES:New Meeting
ATTACH;FMTTYPE=application/pdf:https://www.oc-aa.org/wp-content/uploads/2024/03/One-Sunday-at-a-Time-BB-Study-Thurs-flyer.pdf
END:VEVENT
BEGIN:VEVENT
DTSTART;TZID=America/Los_Angeles:20240317T130000
DTEND;TZID=America/Los_Angeles:20240317T140000
DTSTAMP:20260421T142651
CREATED:20240313T235143Z
LAST-MODIFIED:20240313T235143Z
UID:65792-1710680400-1710684000@www.oc-aa.org
SUMMARY:One Sunday At A Time (New Meeting)
DESCRIPTION:New Big Book Study “BYOB” Bring Your Own Book. New meeting every Sunday @1pm at Thursdays Sunset Beach.
URL:https://www.oc-aa.org/event/one-sunday-at-a-time-new-meeting/
LOCATION:Thursdays\, 16865 Pacific Coast Hwy\, Sunset Beach\, CA\, 92649\, United States
CATEGORIES:New Meeting
ATTACH;FMTTYPE=application/pdf:https://www.oc-aa.org/wp-content/uploads/2024/03/One-Sunday-at-a-Time-BB-Study-Thurs-flyer.pdf
END:VEVENT
END:VCALENDAR