BEGIN:VCALENDAR
VERSION:2.0
PRODID:-//Orange County Intergroup Association - ECPv6.15.20//NONSGML v1.0//EN
CALSCALE:GREGORIAN
METHOD:PUBLISH
X-ORIGINAL-URL:https://www.oc-aa.org
X-WR-CALDESC:Events for Orange County Intergroup Association
REFRESH-INTERVAL;VALUE=DURATION:PT1H
X-Robots-Tag:noindex
X-PUBLISHED-TTL:PT1H
BEGIN:VTIMEZONE
TZID:America/Los_Angeles
BEGIN:DAYLIGHT
TZOFFSETFROM:-0800
TZOFFSETTO:-0700
TZNAME:PDT
DTSTART:20240310T100000
END:DAYLIGHT
BEGIN:STANDARD
TZOFFSETFROM:-0700
TZOFFSETTO:-0800
TZNAME:PST
DTSTART:20241103T090000
END:STANDARD
BEGIN:DAYLIGHT
TZOFFSETFROM:-0800
TZOFFSETTO:-0700
TZNAME:PDT
DTSTART:20250309T100000
END:DAYLIGHT
BEGIN:STANDARD
TZOFFSETFROM:-0700
TZOFFSETTO:-0800
TZNAME:PST
DTSTART:20251102T090000
END:STANDARD
BEGIN:DAYLIGHT
TZOFFSETFROM:-0800
TZOFFSETTO:-0700
TZNAME:PDT
DTSTART:20260308T100000
END:DAYLIGHT
BEGIN:STANDARD
TZOFFSETFROM:-0700
TZOFFSETTO:-0800
TZNAME:PST
DTSTART:20261101T090000
END:STANDARD
END:VTIMEZONE
BEGIN:VEVENT
DTSTART;TZID=America/Los_Angeles:20250502T120000
DTEND;TZID=America/Los_Angeles:20250504T120000
DTSTAMP:20260422T175059
CREATED:20250108T232025Z
LAST-MODIFIED:20250108T232025Z
UID:67886-1746187200-1746360000@www.oc-aa.org
SUMMARY:Easy Does It Weekend Spring Camp 2025
DESCRIPTION:See flyer for details.
URL:https://www.oc-aa.org/event/easy-does-it-weekend-spring-camp-2025/
LOCATION:Camp Seely\, 250 N Highway 138\, Crestline\, CA\, 92325\, United States
CATEGORIES:Special Events
ATTACH;FMTTYPE=application/pdf:https://www.oc-aa.org/wp-content/uploads/2025/01/EDIW-2025-Spring.pdf
END:VEVENT
BEGIN:VEVENT
DTSTART;TZID=America/Los_Angeles:20250517T133000
DTEND;TZID=America/Los_Angeles:20250517T153000
DTSTAMP:20260422T175059
CREATED:20250402T215744Z
LAST-MODIFIED:20250402T215744Z
UID:68615-1747488600-1747495800@www.oc-aa.org
SUMMARY:General Service History in SOCal
DESCRIPTION:See flyer for all the event details. \nIn-person and online event. \nDoors open @ 1:30 PM. Event starts @ 2:00 PM-3:30 PM. \nMeeting ID-9290148764 \nPassword-panel74
URL:https://www.oc-aa.org/event/general-service-history-in-socal/
LOCATION:South Bay Alano Club\, 702 11th Place\, Hermosa Beach\, CA\, 90254\, United States
CATEGORIES:Special Events
ATTACH;FMTTYPE=image/jpeg:https://www.oc-aa.org/wp-content/uploads/2025/04/doc00320820250402144615_0001-scaled.jpg
END:VEVENT
END:VCALENDAR