BEGIN:VCALENDAR
VERSION:2.0
PRODID:-//Orange County Intergroup Association - ECPv6.15.20//NONSGML v1.0//EN
CALSCALE:GREGORIAN
METHOD:PUBLISH
X-WR-CALNAME:Orange County Intergroup Association
X-ORIGINAL-URL:https://www.oc-aa.org
X-WR-CALDESC:Events for Orange County Intergroup Association
REFRESH-INTERVAL;VALUE=DURATION:PT1H
X-Robots-Tag:noindex
X-PUBLISHED-TTL:PT1H
BEGIN:VTIMEZONE
TZID:America/Los_Angeles
BEGIN:DAYLIGHT
TZOFFSETFROM:-0800
TZOFFSETTO:-0700
TZNAME:PDT
DTSTART:20240310T100000
END:DAYLIGHT
BEGIN:STANDARD
TZOFFSETFROM:-0700
TZOFFSETTO:-0800
TZNAME:PST
DTSTART:20241103T090000
END:STANDARD
BEGIN:DAYLIGHT
TZOFFSETFROM:-0800
TZOFFSETTO:-0700
TZNAME:PDT
DTSTART:20250309T100000
END:DAYLIGHT
BEGIN:STANDARD
TZOFFSETFROM:-0700
TZOFFSETTO:-0800
TZNAME:PST
DTSTART:20251102T090000
END:STANDARD
BEGIN:DAYLIGHT
TZOFFSETFROM:-0800
TZOFFSETTO:-0700
TZNAME:PDT
DTSTART:20260308T100000
END:DAYLIGHT
BEGIN:STANDARD
TZOFFSETFROM:-0700
TZOFFSETTO:-0800
TZNAME:PST
DTSTART:20261101T090000
END:STANDARD
END:VTIMEZONE
BEGIN:VEVENT
DTSTART;TZID=America/Los_Angeles:20250928T110000
DTEND;TZID=America/Los_Angeles:20250928T160000
DTSTAMP:20260422T052310
CREATED:20250818T192934Z
LAST-MODIFIED:20250825T194034Z
UID:69179-1759057200-1759075200@www.oc-aa.org
SUMMARY:Charle St. Chili Cook Off Picnic
DESCRIPTION:50/50 Drawing\, Games\, Raffle Prizes. See attached flyer for more info…
URL:https://www.oc-aa.org/event/charle-st-chili-cook-off-picnic/
CATEGORIES:Special Events
ATTACH;FMTTYPE=application/pdf:https://www.oc-aa.org/wp-content/uploads/2025/08/doc00530220250825123831.pdf
END:VEVENT
END:VCALENDAR